BEGIN:VCALENDAR
VERSION:2.0
PRODID:-//Centrum setkávání - ECPv6.15.18//NONSGML v1.0//EN
CALSCALE:GREGORIAN
METHOD:PUBLISH
X-ORIGINAL-URL:https://centrum-setkavani.cz
X-WR-CALDESC:Akce na Centrum setkávání
REFRESH-INTERVAL;VALUE=DURATION:PT1H
X-Robots-Tag:noindex
X-PUBLISHED-TTL:PT1H
BEGIN:VTIMEZONE
TZID:Europe/Paris
BEGIN:DAYLIGHT
TZOFFSETFROM:+0100
TZOFFSETTO:+0200
TZNAME:CEST
DTSTART:20250330T010000
END:DAYLIGHT
BEGIN:STANDARD
TZOFFSETFROM:+0200
TZOFFSETTO:+0100
TZNAME:CET
DTSTART:20251026T010000
END:STANDARD
BEGIN:DAYLIGHT
TZOFFSETFROM:+0100
TZOFFSETTO:+0200
TZNAME:CEST
DTSTART:20260329T010000
END:DAYLIGHT
BEGIN:STANDARD
TZOFFSETFROM:+0200
TZOFFSETTO:+0100
TZNAME:CET
DTSTART:20261025T010000
END:STANDARD
BEGIN:DAYLIGHT
TZOFFSETFROM:+0100
TZOFFSETTO:+0200
TZNAME:CEST
DTSTART:20270328T010000
END:DAYLIGHT
BEGIN:STANDARD
TZOFFSETFROM:+0200
TZOFFSETTO:+0100
TZNAME:CET
DTSTART:20271031T010000
END:STANDARD
END:VTIMEZONE
BEGIN:VTIMEZONE
TZID:Europe/Helsinki
BEGIN:DAYLIGHT
TZOFFSETFROM:+0200
TZOFFSETTO:+0300
TZNAME:EEST
DTSTART:20250330T010000
END:DAYLIGHT
BEGIN:STANDARD
TZOFFSETFROM:+0300
TZOFFSETTO:+0200
TZNAME:EET
DTSTART:20251026T010000
END:STANDARD
BEGIN:DAYLIGHT
TZOFFSETFROM:+0200
TZOFFSETTO:+0300
TZNAME:EEST
DTSTART:20260329T010000
END:DAYLIGHT
BEGIN:STANDARD
TZOFFSETFROM:+0300
TZOFFSETTO:+0200
TZNAME:EET
DTSTART:20261025T010000
END:STANDARD
BEGIN:DAYLIGHT
TZOFFSETFROM:+0200
TZOFFSETTO:+0300
TZNAME:EEST
DTSTART:20270328T010000
END:DAYLIGHT
BEGIN:STANDARD
TZOFFSETFROM:+0300
TZOFFSETTO:+0200
TZNAME:EET
DTSTART:20271031T010000
END:STANDARD
END:VTIMEZONE
BEGIN:VEVENT
DTSTART;TZID=Europe/Paris:20260412T090000
DTEND;TZID=Europe/Paris:20260412T103000
DTSTAMP:20260421T192711
CREATED:20251215T110512Z
LAST-MODIFIED:20260224T202646Z
UID:42435-1775984400-1775989800@centrum-setkavani.cz
SUMMARY:KRANIOSAKRÁLNÍ JÓGA - jarní cyklus - téma: VDĚČNOST a SOUCIT
DESCRIPTION:Dopřejte si chvíli pro sebe\, své tělo i duši.\nČekají Vás ještě 2 lekce jarního cyklu\, plné hluboké praxe. Praxe umožňuje napojit se hluboce na své tělo\, opravdu se uvolnit a obnovit rovnováhu. Lekce obsahuje praktické techniky a informace pro každodenní žití. \nKraniosakrální jóga propojuje moderní lékařské výzkumy\, zabývající se mozkem\, mozkomíšním mokem\, nervovou soustavou a fasciemi s učením tradiční jógy\, tradiční čínské medicíny a buddhismu. Probouzí přirozené ozdravné principy těla a do hloubky uvolňuje fyzické i emoční napětí. \nKaždá lekce je vhodná pro všechny věkové kategorie i pro začátečníky. Kombinuje prvky jógy a kraniosakrální terapie.  \nPřijít můžete na celý cyklus nebo na jednotlivé lekce… \n  \n Zbývající 2 témata jarního cyklu:  \n\n12.4. VDĚČNOST a SOUCIT \n 10.5. VNITŘNÍ KLID\n\n  \n\n  \n\n\n\nCENA: 810 Kč za cyklus nebo 330 Kč za lekci  \nREZERVACE na: sabina.rosecka@gmail.com  \n  \n\n\nLektorka jógy SABINA ROSECKÁ\, www.sabinarosecka.cz \, sabina.rosecka@gmail.com Učitelka jógy a kraniosakrální terapeutka se zaměřením na regulaci nervového systému a uvolňování napětí. Její skupinové i individuální lekce vycházejí z tradiční hatha jógy\, tibetské tantry a kraniosakrální osteopatie a biodynamiky. Součástí lekcí jsou techniky uvolnění těla a mysli a posilování funkční síly těla. Na společných setkáních vás vede k tomu\, abyste vnímali svůj vnitřní prostor\, pocity\, energii a intuici. Naučili se komunikovat s tělem a respektovali ho. \n “Mým cílem je učit jógu bezpečnou cestou tak\, aby pro vás nebyla jen gymnastikou na podložce\, ale prostředkem k plnějšímu\, spokojenějšímu žití v jeho přirozeném potenciálu a schopnosti si život tvořit.” Více se dočtete na jejím webu.
URL:https://centrum-setkavani.cz/akce/kraniosakralni-joga-jarni-cyklus-2-tema-vdecnost-a-soucit/
CATEGORIES:Cvičení
ATTACH;FMTTYPE=image/png:https://centrum-setkavani.cz/wp-content/uploads/2026/02/8.3.-a-dal-kraniosakralni-joga-AKTUAL.png
END:VEVENT
BEGIN:VEVENT
DTSTART;TZID=Europe/Helsinki:20260412T140000
DTEND;TZID=Europe/Helsinki:20260412T153000
DTSTAMP:20260421T192711
CREATED:20260312T180515Z
LAST-MODIFIED:20260312T181531Z
UID:42894-1776002400-1776007800@centrum-setkavani.cz
SUMMARY:ŽENSKÝ KRUH: MAMINKY s DCERAMI
DESCRIPTION:Zvu Tebe a Tvou dceru (na věku nezáleží) na chvíli zastavení\, naladění se na sebe a zpřítomnění.\n\n\n\nBude to náš společný čas\, který si uděláme tak\, aby nám bylo příjemně. Dáme si čaj nebo kakao\, zabubnujeme si a já Vás jemně seznámím s principy poradního kruhu.  \nSdílet můžete – ale nemusíte. Je to čistě na Vás. Nebudu ani jednu do ničeho tlačit.  \nMým cílem je vytvořit kouzelné\, bezpečné prostředí a ty naše holčičky seznámit s kruhem – s tím\, jak komunikace může vypadat. \nTěším se moc! \nA málem bych zapomněla…\nZ každého kruhu si něco odnesete domů – jako takovou připomínku Vašeho společně stráveného času v kruhu. Co to asi bude? \n  \n \n  \n  \nCena: 450 Kč (maminka + dcera)\nPřihlášení a více info na webu: https://zcistajasnamamou.cz/zenske-kruhy/ \n  \nKdo bude facilitátor? \n“Jsem EVA KOCOURKOVÁ – průvodkyně na cestě rodičovstvím a facilitátorkou transparentní kruhové komunikace ve výcviku. Kruhy mi dávají obrovský smysl a to nejen v této \,nukleární’ době zaměřené na individualitu a výkon. Nám ženám tahle doba nehraje do karet už vůbec\, ať už kvůli cykličnosti\, předsudkům v ženských kolektivech\, nebo kvůli velké osamělosti. Právě tu jsem si sama prožila. A díky kruhům ji proměnila. Děkuji. \nJsem pokorným poslem\, který chce tuhle kruhovou moudrost šířit dál. A tak Tě srdečně zvu.”
URL:https://centrum-setkavani.cz/akce/zensky-kruh-maminky-s-dcerami/
LOCATION:KVC Pansofie\, Lannova tř. 208/10\, Č.Budějovice
CATEGORIES:ženský kruh
END:VEVENT
BEGIN:VEVENT
DTSTART;TZID=Europe/Paris:20260412T170000
DTEND;TZID=Europe/Paris:20260412T210000
DTSTAMP:20260421T192711
CREATED:20260117T151512Z
LAST-MODIFIED:20260312T202250Z
UID:42477-1776013200-1776027600@centrum-setkavani.cz
SUMMARY:SYSTEMICKÉ KONSTELACE s IVANOU
DESCRIPTION:…každou 2. neděli v měsíci od 17:00 do 21:00 h. \nPomocí konstelací máme možnost nahlédnout do významných životních momentů\, které v sobě ukrývají skrytý potenciál. Vytváříme si tím možnost vystoupit z nevědomých omezujících vzorců a stát se tak tvůrci vlastních životů\, kteří vědomě následují řád lásky. \n  \n \n  \n  \nVstupné 500Kč\, postavení vlastní konstelace + 500Kč (zamluvení konstelací dle pořadí přihlášení\, počet konstelací omezen) \nREZERVACE nutná předem do 9.dubna na e-mail: ivana.kacerova@seznam.cz nebo tel.: 774 322 126 \n  \n  \n \n  \nProvází: IVANA KAČEROVÁ\, www.uvolneniteladuse.com   \nUž bezmála 30 let se věnuji propojení těla\, mysli\, duše i ducha. Životní cesta mě zavedla k rozmanitým pohybovým technikám od jógy přes tai-ji\, chi-kung\, kum-nye\, intuitivní pohyb i metodu Feldenkrais. Postupně se přidružily různé druhy masáží\, kraniosakrální uvolnění\, metamorfní technika\, regrese i systemické konstelace. Všechny tyto techniky se zároveň propojují s duchovní filozofií i kultivací těla\, mysli i duše. Učí nás naslouchat svému „středu“ a nechat se jím vést. Zajímá mě propojení vnitřních světů s vnějšími a naopak.\nMým životním motem je nalézat své „IKIGAI“\n(Japonské slovíčko pro životní tvorbu\, jehož význam obsahuje čtyři části\, které existují spolu současně a jsou obsaženy v jednom.)\n– Věnuj se tomu\, co tě baví\n– Využívej při tom své talenty\n– Dělej co je prospěšné pro ostatní\n– To\, co děláš\, je zdrojem tvého živobytí
URL:https://centrum-setkavani.cz/akce/systemicke-konstelace-s-ivanou-2/
LOCATION:KVC Pansofie\, Lannova tř. 208/10\, Č.Budějovice
CATEGORIES:rodinné konstelace
ATTACH;FMTTYPE=image/png:https://centrum-setkavani.cz/wp-content/uploads/2026/02/8.3.-a-dale-Iva-RK-AKTUAL-724x1024-1.png
END:VEVENT
END:VCALENDAR