BEGIN:VCALENDAR
VERSION:2.0
PRODID:-//Centrum setkávání - ECPv6.15.18//NONSGML v1.0//EN
CALSCALE:GREGORIAN
METHOD:PUBLISH
X-WR-CALNAME:Centrum setkávání
X-ORIGINAL-URL:https://centrum-setkavani.cz
X-WR-CALDESC:Akce na Centrum setkávání
REFRESH-INTERVAL;VALUE=DURATION:PT1H
X-Robots-Tag:noindex
X-PUBLISHED-TTL:PT1H
BEGIN:VTIMEZONE
TZID:Europe/Paris
BEGIN:DAYLIGHT
TZOFFSETFROM:+0100
TZOFFSETTO:+0200
TZNAME:CEST
DTSTART:20250330T010000
END:DAYLIGHT
BEGIN:STANDARD
TZOFFSETFROM:+0200
TZOFFSETTO:+0100
TZNAME:CET
DTSTART:20251026T010000
END:STANDARD
BEGIN:DAYLIGHT
TZOFFSETFROM:+0100
TZOFFSETTO:+0200
TZNAME:CEST
DTSTART:20260329T010000
END:DAYLIGHT
BEGIN:STANDARD
TZOFFSETFROM:+0200
TZOFFSETTO:+0100
TZNAME:CET
DTSTART:20261025T010000
END:STANDARD
BEGIN:DAYLIGHT
TZOFFSETFROM:+0100
TZOFFSETTO:+0200
TZNAME:CEST
DTSTART:20270328T010000
END:DAYLIGHT
BEGIN:STANDARD
TZOFFSETFROM:+0200
TZOFFSETTO:+0100
TZNAME:CET
DTSTART:20271031T010000
END:STANDARD
END:VTIMEZONE
BEGIN:VEVENT
DTSTART;TZID=Europe/Paris:20260415T170000
DTEND;TZID=Europe/Paris:20260415T183000
DTSTAMP:20260421T191957
CREATED:20260117T153840Z
LAST-MODIFIED:20260224T202647Z
UID:42485-1776272400-1776277800@centrum-setkavani.cz
SUMMARY:ČCHI-KUNG - MEDITACE pro vnitřní sílu\, uvědomění a harmonii (pro začátečníky a mírně pokročilé)
DESCRIPTION:Každou středu! \nPostupně se učíme několik sestav cvičení čchi-kung\, samostatné cviky a meditační techniky\, vedoucí k vědomému prožívání. Objevíme tři úrovně prožívání: vnější (forma – tělo)\, vnitřní (prožívání – energie) a tajnou (Vědomí – Mysl\, Duch) a mnoho dalšího. Čeká nás: \n\nŽELVÍ CHŮZE DLOUHOVĚKOSTI \nČCHI-KUNG 5 ELEMENTŮ \nNAVÍJENÍ HEDVÁBNÉHO VLÁKNA\n8 KUSŮ BROKÁTU\n další cviky a metody\, které vedou k uvolnění\, vnitřní síle a hlubším rovinám Bytí. \n\n  \n \n  \nPřihlášení a dotazy: Milan Strejček\, tel: 775 985 108 (i WA)\nCena: 280Kč / lekce \, přihlášení předem \n  \nLektor MILAN STREJČEK  “přes 30 let se zabývám vlastním osobním rozvojem. Mám zkušenosti v praktikování tibetského buddhismu\, šamanismu\, cvičení tai-chi a čchi-kung. Jsem lektorem těchto cvičení\, práce s myslí\, s pocity a energií. Předávám při nich své zkušenosti a hluboké vhledy. Těším se na Vás. Milan”
URL:https://centrum-setkavani.cz/akce/cchi-kung-meditace-pro-vnitrni-silu-uvedomeni-a-harmonii-pro-zacatecniky-a-mirne-pokrocile-3/
CATEGORIES:Cvičení
ATTACH;FMTTYPE=image/png:https://centrum-setkavani.cz/wp-content/uploads/2026/02/4.2.-STREJCEK-stredecni-cchi-kung-meditace-AKTUAL-1-724x1024-1.png
END:VEVENT
BEGIN:VEVENT
DTSTART;TZID=Europe/Paris:20260415T191500
DTEND;TZID=Europe/Paris:20260415T204500
DTSTAMP:20260421T191957
CREATED:20260331T221518Z
LAST-MODIFIED:20260331T221518Z
UID:43001-1776280500-1776285900@centrum-setkavani.cz
SUMMARY:TANCEM k SOBĚ (prožitkový volný tanec s relaxací)
DESCRIPTION:Navštivte otevřenou lekci prožitkového tance (každou 1. a 3. středu v měsíci). \nJemné vedení do prožitku a pohybu\, naladění se skrze hudbu a vlastní rytmus těla. Přijďte si vyzkoušet a zažít\, jak silnou a zároveň jemnou medicínou je volný prožitkový tanec. Tancem je míněn svobodný spontánní pohyb inspirovaný hudbou a vizualizací.  \n  \n \n  \n  \nDoporučuji pohodlné oblečení na volný tanec a přijít dříve… \nCena jedné lekce na místě je 350 Kč. Při platbě předem za 2 lekce je cena 600 Kč. \nProsím\, dej vědět a rezervuj si své místo za 300 Kč (nejpozději 3 dny před lekcí) na tel. 607 149 083 \, info@tandea.cz\, nebo přihláškou zde: https://forms.gle/nVXViFdFLTdtRoSGA. \nKapacita sálu je omezena. \n  \n  \nJmenuji se ANDREA HAVLOVÁ\, www.tandea.cz (TANec+anDrEA = TANDEA).  \nMiluji pohyb\, hravost a objevování toho\, co všechno dokáže lidské tělo.\nDlouho mě fascinovalo\, jak lidské tělo funguje v pohybu. A právě přes pohyb a tanec jsem nakonec našla i sama sebe. Tanec je pro mě prostor\, kde můžu být autentická\, svobodná a přítomná. Tanec je pro mě přirozená cesta k sebepoznání\, relaxaci i meditaci.\nJe to způsob\, jak se nadechnout\, odpočinout si\, posílit se a zároveň se ponořit hlouběji do sebe. \nSkrze slovní vizualizace\, hudbu a rytmus se ladíme na vnitřní prožitky\, které vedou k uvolnění\, radosti a hlubšímu napojení na sebe. \nTanec\, který vedu\, je zcela volný – žádné choreografie\, žádné „musím“. Vychází z těla\, z dechu\, z pocitů a prožitku. Není potřeba žádná předchozí zkušenost\, jen chuť objevovat\, otevírat se a uvolnit vše\, co v nás žije\, pohybem. \nS láskou a pokorou chci předávat radost z tance a vytvořit bezpečný prostor pro šťastné a sebevědomé lidi kolem sebe. Cítím velkou vděčnost\, že mohu a proto chci společně s Vámi sdílet sílu a radost z tance.\nNASLOUCHEJME svému tělu a učme se tak naslouchat sobě i ostatním. Tělo ví.\nSrdečně Vás zvu a těším se na taneční cestu. Andy \n  \nDalší vzdělání a kurzy: \nTanchi Lenka Červená\, Vývojové vzorce\, Flor work\nLektorka taneční přípravky Tanchi 9/21-6/22 \nLektor tanečně pohybových aktivit pro děti 5-13 let se zaměřením na psychosociální rozvoj\, Move Art 5-9/202\nTaneční archetypy\, Judita Berková\nTanec školám\, Intuitivní pedagogika\, 9/22\nCharkadance\, online\, Alice Kirš\nBody music\nCirkusová pedagogika 7/23\nLetní škola kreativního vzdělávání 8/23 Škola tančí\nCesta tanečnice online kurz Probuď v sobě tanečnici\nGrooveDance- svoboda nejen v tanci\, online\,Jaru Divišová 9-10/23\nLider ship embodied femine\, Niky Melia 10/23 \nArchetypy ženské duše\, roční online kurz prožitkového tance\, Lenka Adámková\nTaneční pohybová meditace\, tanecni cviceni- Niky Melia\nEnsence živlů\, prožitkový seminář\, Lenka Adámková\nPedagogický seminář Škola tančí pořádaný Centrem choreografického rozvoje SE.S.TA\, leden 2024\nHAMU Taneční a pohybová výchova 2/24- 1/26\nCirkusová pedagogika\, Cirqueon 4/2025\nTaneční víkend Movement Medicine s Y’Acovem Darling\, duben 2025\n2025 členem Asociace taneční a pohybové výchovy\,\nTanečně tvořivý přímestký tábor pro dívky\, 7/2025\, Tanchi\nBudeCirkus\, Cirkusení pro děti
URL:https://centrum-setkavani.cz/akce/tancem-k-sobe-prozitkovy-volny-tanec-s-relaxaci-15/
LOCATION:Skautské centrum Krajinská 384/40a \, Č.Budějovice
CATEGORIES:Tanec,workshop
ATTACH;FMTTYPE=image/png:https://centrum-setkavani.cz/wp-content/uploads/2026/02/7.1.-TANEC-Andy-AKTUAL-724x1024-1.png
END:VEVENT
END:VCALENDAR