BEGIN:VCALENDAR
VERSION:2.0
PRODID:-//Centrum setkávání - ECPv6.15.18//NONSGML v1.0//EN
CALSCALE:GREGORIAN
METHOD:PUBLISH
X-ORIGINAL-URL:https://centrum-setkavani.cz
X-WR-CALDESC:Akce na Centrum setkávání
REFRESH-INTERVAL;VALUE=DURATION:PT1H
X-Robots-Tag:noindex
X-PUBLISHED-TTL:PT1H
BEGIN:VTIMEZONE
TZID:Europe/Paris
BEGIN:DAYLIGHT
TZOFFSETFROM:+0100
TZOFFSETTO:+0200
TZNAME:CEST
DTSTART:20250330T010000
END:DAYLIGHT
BEGIN:STANDARD
TZOFFSETFROM:+0200
TZOFFSETTO:+0100
TZNAME:CET
DTSTART:20251026T010000
END:STANDARD
BEGIN:DAYLIGHT
TZOFFSETFROM:+0100
TZOFFSETTO:+0200
TZNAME:CEST
DTSTART:20260329T010000
END:DAYLIGHT
BEGIN:STANDARD
TZOFFSETFROM:+0200
TZOFFSETTO:+0100
TZNAME:CET
DTSTART:20261025T010000
END:STANDARD
BEGIN:DAYLIGHT
TZOFFSETFROM:+0100
TZOFFSETTO:+0200
TZNAME:CEST
DTSTART:20270328T010000
END:DAYLIGHT
BEGIN:STANDARD
TZOFFSETFROM:+0200
TZOFFSETTO:+0100
TZNAME:CET
DTSTART:20271031T010000
END:STANDARD
END:VTIMEZONE
BEGIN:VEVENT
DTSTART;TZID=Europe/Paris:20260418T080000
DTEND;TZID=Europe/Paris:20260419T190000
DTSTAMP:20260421T192643
CREATED:20251215T115136Z
LAST-MODIFIED:20260312T205611Z
UID:42439-1776499200-1776625200@centrum-setkavani.cz
SUMMARY:OBJEVOVÁNÍ SKRYTÝCH SCHOPNOSTÍ - základní seminář
DESCRIPTION:Srdečně Vás zveme na základní seminář Modré Alfy \nPro ty\, kteří jsou na cestě hledání\, nabízíme příležitost jak poznat a na základě poznání lépe využívat netušených možností naší mysli. Každý člověk tyto schopnosti má a základní seminář Modré Alfy\, který se nazývá “Objevování skrytých schopností”\, vám je pomůže objevit.  \nSeminář nabízí: \n\nmožnost komunikace se svým podvědomím\nnaučit se lépe a úspěšněji řešit a zvládat každodenní situace\nschopnost aktivně pracovat na svém zdraví a zdraví blízkých\nmetody na udržení svěžesti a zlepšení schopnosti se učit\nporozumění zákonitostem života\ncestu k nalezení vnitřního klidu a vyrovnanosti.\nSeminář umožňuje využití těchto schopností ku prospěchu sobě i svým blízkým.\n\n  \n \n  \n  \nČasový rozvrh: \nseminář je rozložen do dvou víkendů.\nPrvní víkend: 18. a 19. dubna : sobota 8:00 – 19:30 hod.\, neděle 8:00 – 19:00 hod.\nPokračovací víkend: 2. a 3. května\, oba dny od 8:00 do 18:00 hod.  \n  \nInstrukce:\n– Semináře začínají registrací půl hodiny před uvedeným zahájením.\n– Na všechny semináře je vhodné pohodlné oblečení\, přezůvky\, psací potřeby\, eventuelně podložka pro změkčení sezení (polštář\, deka) nebo podložka na ležení (pro cca 13 zájemců můžeme půjčit karimatky a deky).\n– Na seminářích není zajišťována strava (můžete si přinést svoji nebo jednorázově objednáme dovážkou). Doporučujeme lehkou (bezmasou) stravu.\n– Lidem trpícím schizofrenií a maniodepresivními stavy doporučujeme předchozí konzultaci.\n– Dostanete-li se do situace\, že se semináře nemůžete zúčastnit\, žádáme Vás o včasné podání zprávy. Děkujeme.\n– Podmínkou pro absolvování kteréhokoliv nadstavbového semináře (viz níže) je umění meditovat. Není důležité\, zda byla získána vlastní praxí\, nebo na nějakém semináři.\n– Na nadstavbové semináře si vezměte absolventskou jmenovku \n  \nSKVĚLÁ CENA!!! 1800 Kč = za oba víkendy\, zájemci v sociální tísni mohou požádat o slevu.  \nProsím o registraci ve větším předstihu – dle počtu zájemců příp. změníme místo konání… (registrovat se můžete i dnes). \nREGISTRACE a platba předem na: https://www.modraalfa.cz/seminare/objevovani_skrytych_schopnosti \n  \n \nLektor: PETR VELECHOVSKÝ \,  www.modraalfa.cz\nznámý český lektor. \nVlastní duchovní cestu započal na konci 70 let. Provozuje kurzy osobnostního rozvoje\, a to prostřednictvím společnosti Modrá alfa\, kterou založil.
URL:https://centrum-setkavani.cz/akce/objevovani-skrytych-schopnosti/
LOCATION:BESEDA\, Na Sadech 18\, Č.Budějovice
CATEGORIES:seminář
ATTACH;FMTTYPE=image/png:https://centrum-setkavani.cz/wp-content/uploads/2026/02/P.-Velechovsky-sede-pozadi.png
END:VEVENT
END:VCALENDAR