BEGIN:VCALENDAR
VERSION:2.0
PRODID:-//Centrum setkávání - ECPv6.15.18//NONSGML v1.0//EN
CALSCALE:GREGORIAN
METHOD:PUBLISH
X-WR-CALNAME:Centrum setkávání
X-ORIGINAL-URL:https://centrum-setkavani.cz
X-WR-CALDESC:Akce na Centrum setkávání
REFRESH-INTERVAL;VALUE=DURATION:PT1H
X-Robots-Tag:noindex
X-PUBLISHED-TTL:PT1H
BEGIN:VTIMEZONE
TZID:Europe/Paris
BEGIN:DAYLIGHT
TZOFFSETFROM:+0100
TZOFFSETTO:+0200
TZNAME:CEST
DTSTART:20250330T010000
END:DAYLIGHT
BEGIN:STANDARD
TZOFFSETFROM:+0200
TZOFFSETTO:+0100
TZNAME:CET
DTSTART:20251026T010000
END:STANDARD
BEGIN:DAYLIGHT
TZOFFSETFROM:+0100
TZOFFSETTO:+0200
TZNAME:CEST
DTSTART:20260329T010000
END:DAYLIGHT
BEGIN:STANDARD
TZOFFSETFROM:+0200
TZOFFSETTO:+0100
TZNAME:CET
DTSTART:20261025T010000
END:STANDARD
BEGIN:DAYLIGHT
TZOFFSETFROM:+0100
TZOFFSETTO:+0200
TZNAME:CEST
DTSTART:20270328T010000
END:DAYLIGHT
BEGIN:STANDARD
TZOFFSETFROM:+0200
TZOFFSETTO:+0100
TZNAME:CET
DTSTART:20271031T010000
END:STANDARD
END:VTIMEZONE
BEGIN:VEVENT
DTSTART;TZID=Europe/Paris:20260422T170000
DTEND;TZID=Europe/Paris:20260422T183000
DTSTAMP:20260421T191638
CREATED:20260117T153938Z
LAST-MODIFIED:20260224T202647Z
UID:42487-1776877200-1776882600@centrum-setkavani.cz
SUMMARY:ČCHI-KUNG - MEDITACE pro vnitřní sílu\, uvědomění a harmonii (pro začátečníky a mírně pokročilé)
DESCRIPTION:Každou středu! \nPostupně se učíme několik sestav cvičení čchi-kung\, samostatné cviky a meditační techniky\, vedoucí k vědomému prožívání. Objevíme tři úrovně prožívání: vnější (forma – tělo)\, vnitřní (prožívání – energie) a tajnou (Vědomí – Mysl\, Duch) a mnoho dalšího. Čeká nás: \n\nŽELVÍ CHŮZE DLOUHOVĚKOSTI \nČCHI-KUNG 5 ELEMENTŮ \nNAVÍJENÍ HEDVÁBNÉHO VLÁKNA\n8 KUSŮ BROKÁTU\n další cviky a metody\, které vedou k uvolnění\, vnitřní síle a hlubším rovinám Bytí. \n\n  \n \n  \nPřihlášení a dotazy: Milan Strejček\, tel: 775 985 108 (i WA)\nCena: 280Kč / lekce \, přihlášení předem \n  \nLektor MILAN STREJČEK  “přes 30 let se zabývám vlastním osobním rozvojem. Mám zkušenosti v praktikování tibetského buddhismu\, šamanismu\, cvičení tai-chi a čchi-kung. Jsem lektorem těchto cvičení\, práce s myslí\, s pocity a energií. Předávám při nich své zkušenosti a hluboké vhledy. Těším se na Vás. Milan”
URL:https://centrum-setkavani.cz/akce/cchi-kung-meditace-pro-vnitrni-silu-uvedomeni-a-harmonii-pro-zacatecniky-a-mirne-pokrocile-4/
CATEGORIES:Cvičení
ATTACH;FMTTYPE=image/png:https://centrum-setkavani.cz/wp-content/uploads/2026/02/4.2.-STREJCEK-stredecni-cchi-kung-meditace-AKTUAL-1-724x1024-1.png
END:VEVENT
BEGIN:VEVENT
DTSTART;TZID=Europe/Paris:20260422T190000
DTEND;TZID=Europe/Paris:20260422T210000
DTSTAMP:20260421T191638
CREATED:20260131T203302Z
LAST-MODIFIED:20260312T230842Z
UID:42513-1776884400-1776891600@centrum-setkavani.cz
SUMMARY:ZRCADLA VZTAHŮ s Mílou Rejlkovou
DESCRIPTION:Nabízíme další z aktuálních přednášek Míly Rejlkové. \nV tyto dny se nachází Slunce v konjunkci s planetkou Cheirón ve znamení Berana. Znamená to\, že osobní identita prochází zkouškou v podobě aktivace tématu hlubokého zranění\, a to v oblasti sebeprosazení. \nObjevují se všechna traumata spojená s nedostatečnou sebedůvěrou\, všechny hluboko uložené strachy související s prosazováním svého\, všechny situace\, kde v našem životě docházelo či dochází k porušování osobních hranic. \nNa přednášce si ukážeme\, jakým způsobem používat svoje vztahy osobní i pracovní jako zrcadla našeho nitra\, abychom mohli objevit vše\, co nás sráží dolů\, co nám nedovoluje naplnit svůj skutečný potenciál a co potřebuje být přepsáno do pozitivní podoby\, abychom mohli žít plný a uspokojující život. \n  \n \n  \n  \nREZERVACE prosím\, předem na tel. 605 148 913 nebo centrumsetkavani.cb@seznam.cz  \nCena: 300 Kč \n22.4. odpoledne a 23.4. po celý den bude lektorka k dispozici pro INDIVIDUÁLNÍ TERAPIE. Objednání předem na tel. 778 000 025 (p. Peterková) \n  \nSlova Míly Rejlkové: “Pocity jsou zpráva o stavu naší energie.” \nUčím lidi\, jak se do své pocitové roviny dostat\, jak vnímat\, co\, proč a jak naše pocity dělají\, a jak opravovat a nastavovat svoje pocitové vzorce… jak si rozšiřovat vědomí sebe sama a svoje možnosti.  \nJsme rezonanční energetické bytosti\, naše fyzické tělo je pouze nejhmotnější forma naší skutečné struktury. Naučíme-li se zacházet s vyššími okruhy svého vnímání\, otvírá se nám svět přímého rezonančního čtení reality. A protože rezonance funguje oběma směry\, máme pak možnost nejen realitu číst\, ale změnou svého rezonančního vzorce měnit též podobu světa\, který nás obklopuje a jako zrcadlo nám odráží stav našeho nitra. Můžeme napravovat tělesné psychosomatické důsledky disharmonií v energiích\, napravovat vztahové vzorce\, ovlivňovat svoje možnosti seberealizace\, zkrátka ve všech směrech měnit svůj život k lepšímu”. \n  \n \n  \nProvází: Ing. MILUŠE REJLKOVÁ\, www.milarejlkova.cz \, https://www.facebook.com/mila.rejlkova je celostní terapeutka. Zabývá se především nastavením myšlenkově-pocitových vzorců ve smyslu rovnání všeho\, co je v úrovních lidské bytosti (Vyšší Já/duše/vědomí/osobnost) nakřivo či nekomunikující. Používá vlastní metodu s názvem Psychické rezonanční pole\, kterou za 20 let práce rozvinula a formou osobních sezení\, přednášek i seminářů ji předává lidem\, kteří chtějí v procesu rovnání sebe sama pokročit do větší hloubky než je obvyklé\, a mají navíc zájem toto osobní rovnání provádět svými vlastními\, zdokonalujícími se schopnostmi.
URL:https://centrum-setkavani.cz/akce/zrcadla-vztahu-s-milou-rejlkovou/
LOCATION:KVC Pansofie\, Lannova tř. 208/10\, Č.Budějovice
CATEGORIES:Přednáška
ATTACH;FMTTYPE=image/jpeg:https://centrum-setkavani.cz/wp-content/uploads/2026/02/22.4.-ZRCADLA-VZTAHU.jpg
END:VEVENT
END:VCALENDAR