BEGIN:VCALENDAR
VERSION:2.0
PRODID:-//Centrum setkávání - ECPv6.15.18//NONSGML v1.0//EN
CALSCALE:GREGORIAN
METHOD:PUBLISH
X-WR-CALNAME:Centrum setkávání
X-ORIGINAL-URL:https://centrum-setkavani.cz
X-WR-CALDESC:Akce na Centrum setkávání
REFRESH-INTERVAL;VALUE=DURATION:PT1H
X-Robots-Tag:noindex
X-PUBLISHED-TTL:PT1H
BEGIN:VTIMEZONE
TZID:Europe/Paris
BEGIN:DAYLIGHT
TZOFFSETFROM:+0100
TZOFFSETTO:+0200
TZNAME:CEST
DTSTART:20250330T010000
END:DAYLIGHT
BEGIN:STANDARD
TZOFFSETFROM:+0200
TZOFFSETTO:+0100
TZNAME:CET
DTSTART:20251026T010000
END:STANDARD
BEGIN:DAYLIGHT
TZOFFSETFROM:+0100
TZOFFSETTO:+0200
TZNAME:CEST
DTSTART:20260329T010000
END:DAYLIGHT
BEGIN:STANDARD
TZOFFSETFROM:+0200
TZOFFSETTO:+0100
TZNAME:CET
DTSTART:20261025T010000
END:STANDARD
BEGIN:DAYLIGHT
TZOFFSETFROM:+0100
TZOFFSETTO:+0200
TZNAME:CEST
DTSTART:20270328T010000
END:DAYLIGHT
BEGIN:STANDARD
TZOFFSETFROM:+0200
TZOFFSETTO:+0100
TZNAME:CET
DTSTART:20271031T010000
END:STANDARD
END:VTIMEZONE
BEGIN:VEVENT
DTSTART;TZID=Europe/Paris:20260505T180000
DTEND;TZID=Europe/Paris:20260505T200000
DTSTAMP:20260421T230345
CREATED:20251223T175957Z
LAST-MODIFIED:20260224T202645Z
UID:42359-1778004000-1778011200@centrum-setkavani.cz
SUMMARY:MEDITACE s KŘIŠŤÁLOVÝMI MÍSAMI a SVĚTELNÁ ŘEČ s KÓDY
DESCRIPTION:Srdečně zveme na další jedinečné setkání s úžasnou Jiřinkou Solvanou a jejími křišťálovými mísami v propojení se světelným jazykem a zpěvem\, kterým Jiřinka promlouvá mezi jednotlivými hraními na mísy. Tato velmi silná meditace s křišťálovými mísami je nádherným a nezapomenutelným zážitkem. Zvuk a vibrace křišťálových mís jsou hluboce léčivé a očistné.  \nRok 2026 je na vlnách a vibracích tvého srdce a světla\, kde každou částečku těla i aury roztančí\, rozechvěje a pospojuje do světelného spojení…\nKaždý se nachází na cestě poznání a lásky k sobě – na vlně tvoření a do domova srdce.\nPříjmi pozvání na křišťálové mísy a světelné kódy\, řeč a zpěv.\nKřišťálové mísy rozezvučí a rozvibrují celé tvé bytí\, prostoupí a zacelí rány a bolesti\, pohladí duší a buňky…\nS láskou otevřou tvoji jedinečnost\, pozve tě “domů”… \nVeškeré tóny\, souzvuky se dějí na frekvenci lásky v přitomném okamžiku prostřednictvím křišťálových mís\, zpěvu a světelné řeči\, kde se harmonizují buňky\, prostupují do aury a energetického pole. Odstraňují veškeré nánosy\, staré programy\, bloky atd. Křišťálové mísy se vyskytovaly již ve starověké civilizaci a harmonizovaly prostor a lidi. \n  \n  \n  \n  \nZMĚNA: přines si svetr\, karimatku\, polštář a deku\, případně spacák! \nMeditací tě s láskou provede Jiřinka Solvana \nCena: 400 Kč při platbě předem na účet 714819093 /0800 (do zprávy pro příjemce napiš dar\, ČB a jméno)\, 450 Kč na místě \nPřihlášení předem a info: na tel. 605 148 913\, centrumsetkavani.cb@seznam.cz\nnebo přímo Jiřinka Solvana\, tel. 602 573 641 \n  \nJIŘINKA SOLVANA:\nHraji na křišťálové mísy 12 let\, jsem stále překvapována\, co dokážou otevřít… Mluvím světelným jazykem a zpívám. Hraji na šamanský buben a lyru. Maluji enkastikou energetické obrazy se světelnými kódy. Vytvářim mastičky a sirupy. Individuální léčení prostřednictvím křišťálových mís\, léčení těla-energeticky\, masáže\, diagnostika. Pročištění domů a prostorů od negativní energie i na dálku….\nVedu semináře – Světelné sloupy\, jak pracovat a ochránit své tělo a auru\, jak odstranit přisedlíky z těla atd.\, Napojení a spojeni vyšších JÁ\, odstranění otisků\, nánosů a šedých seskupeni ze všech orgánů\, svalů\, zkrátka z těla. Pro skupiny i individuálně pořádám toulání krajinou – spaní pod hvězdami\, navnímávání krajiny…
URL:https://centrum-setkavani.cz/akce/meditace-s-kristalovymi-misami-a-svetelna-rec-s-kody-4/
CATEGORIES:Alternativní hudba
ATTACH;FMTTYPE=image/jpeg:https://centrum-setkavani.cz/wp-content/uploads/2026/02/5.5.-Solvana.jpg
END:VEVENT
END:VCALENDAR