BEGIN:VCALENDAR
VERSION:2.0
PRODID:-//Centrum setkávání - ECPv6.15.18//NONSGML v1.0//EN
CALSCALE:GREGORIAN
METHOD:PUBLISH
X-WR-CALNAME:Centrum setkávání
X-ORIGINAL-URL:https://centrum-setkavani.cz
X-WR-CALDESC:Akce na Centrum setkávání
REFRESH-INTERVAL;VALUE=DURATION:PT1H
X-Robots-Tag:noindex
X-PUBLISHED-TTL:PT1H
BEGIN:VTIMEZONE
TZID:Europe/Paris
BEGIN:DAYLIGHT
TZOFFSETFROM:+0100
TZOFFSETTO:+0200
TZNAME:CEST
DTSTART:20250330T010000
END:DAYLIGHT
BEGIN:STANDARD
TZOFFSETFROM:+0200
TZOFFSETTO:+0100
TZNAME:CET
DTSTART:20251026T010000
END:STANDARD
BEGIN:DAYLIGHT
TZOFFSETFROM:+0100
TZOFFSETTO:+0200
TZNAME:CEST
DTSTART:20260329T010000
END:DAYLIGHT
BEGIN:STANDARD
TZOFFSETFROM:+0200
TZOFFSETTO:+0100
TZNAME:CET
DTSTART:20261025T010000
END:STANDARD
BEGIN:DAYLIGHT
TZOFFSETFROM:+0100
TZOFFSETTO:+0200
TZNAME:CEST
DTSTART:20270328T010000
END:DAYLIGHT
BEGIN:STANDARD
TZOFFSETFROM:+0200
TZOFFSETTO:+0100
TZNAME:CET
DTSTART:20271031T010000
END:STANDARD
END:VTIMEZONE
BEGIN:VEVENT
DTSTART;TZID=Europe/Paris:20260507T173000
DTEND;TZID=Europe/Paris:20260507T182500
DTSTAMP:20260422T022406
CREATED:20260331T223314Z
LAST-MODIFIED:20260331T223314Z
UID:43017-1778175000-1778178300@centrum-setkavani.cz
SUMMARY:CVIČENÍ PRO ZDRAVÁ ZÁDA - pravidelné lekce
DESCRIPTION:Každý týden ve čtvrtek… I Vy můžete vyzkoušet! \nZveme Vás na šetrné a účinné rehabilitační cvičení\, vedené rehabilitační lékařkou.\nJe vhodné i pro lidi po výhřezu ploténky.  \nMůžete si vybrat ze dvou časů: od 16:30 do 17.25 anebo od  17:30 do 18:25 hod. Cvičíme 55 min. Rezervace předem! \nProtáhneme svaly\, které mají tendenci se zkracovat\, zmobilizujeme páteř\, nacvičíme si správné držení těla\, jemně posílíme svaly\, důležité pro funkci páteře a naučíme se aktivační cviky z vývojové kineziologie\, která je považována moderní medicínou za nejúčinnější. \n  \n \n  \nCvičení můžete nezávazně vyzkoušet za 150 Kč i v průběhu cyklu – po lekci se rozhodnete\, jestli Vás láká přihlásit se na 3 měsíční cvičení každý týden (a tím pádem mít cenu za lekci stále 150 Kč). \nCena: 150 Kč / lekce při platbě celého tříměsíčního cyklu.\nREZERVACE předem přímo u lektorky: tel. 732 612 187 \n\n\n  \n\n\nProvází: MUDr. ŠTĚPÁNKA PEŠTOVÁ\, mail: pestova.stepanka@seznam.cz\, tel: 732 612 187 \n„Pracuji jako rehabilitační lékařka. Kromě toho praktikuji kraniosakrální a meridiánovou terapii. \nLektoruji zdravotní cvičení:\n• proti stresu\n• pro zdravá záda\n• harmonizaci čaker\n• navyšování energie \nOrganizuji týdenní pobyty s kurzy:\n• navyšování energie\n• cesta srdce
URL:https://centrum-setkavani.cz/akce/cviceni-pro-zdrava-zada-pravidelne-lekce-23/
LOCATION:KVC Pansofie\, Lannova tř. 208/10\, Č.Budějovice
CATEGORIES:Cvičení
ATTACH;FMTTYPE=image/png:https://centrum-setkavani.cz/wp-content/uploads/2026/02/15.1.-Peskova-S-cviceni-pro-zdrava-zada-AKTUAL-1.png
END:VEVENT
END:VCALENDAR