BEGIN:VCALENDAR
VERSION:2.0
PRODID:-//Centrum setkávání - ECPv6.15.18//NONSGML v1.0//EN
CALSCALE:GREGORIAN
METHOD:PUBLISH
X-ORIGINAL-URL:https://centrum-setkavani.cz
X-WR-CALDESC:Akce na Centrum setkávání
REFRESH-INTERVAL;VALUE=DURATION:PT1H
X-Robots-Tag:noindex
X-PUBLISHED-TTL:PT1H
BEGIN:VTIMEZONE
TZID:Europe/Paris
BEGIN:DAYLIGHT
TZOFFSETFROM:+0100
TZOFFSETTO:+0200
TZNAME:CEST
DTSTART:20250330T010000
END:DAYLIGHT
BEGIN:STANDARD
TZOFFSETFROM:+0200
TZOFFSETTO:+0100
TZNAME:CET
DTSTART:20251026T010000
END:STANDARD
BEGIN:DAYLIGHT
TZOFFSETFROM:+0100
TZOFFSETTO:+0200
TZNAME:CEST
DTSTART:20260329T010000
END:DAYLIGHT
BEGIN:STANDARD
TZOFFSETFROM:+0200
TZOFFSETTO:+0100
TZNAME:CET
DTSTART:20261025T010000
END:STANDARD
BEGIN:DAYLIGHT
TZOFFSETFROM:+0100
TZOFFSETTO:+0200
TZNAME:CEST
DTSTART:20270328T010000
END:DAYLIGHT
BEGIN:STANDARD
TZOFFSETFROM:+0200
TZOFFSETTO:+0100
TZNAME:CET
DTSTART:20271031T010000
END:STANDARD
END:VTIMEZONE
BEGIN:VEVENT
DTSTART;TZID=Europe/Paris:20260510T090000
DTEND;TZID=Europe/Paris:20260510T103000
DTSTAMP:20260422T060646
CREATED:19691231T220000Z
LAST-MODIFIED:20260331T222623Z
UID:42437-1778403600-1778409000@centrum-setkavani.cz
SUMMARY:KRANIOSAKRÁLNÍ JÓGA - jarní cyklus - téma: VNITŘNÍ KLID
DESCRIPTION:Dopřejte si chvíli pro sebe\, své tělo i duši.\nČeká Vás poslední lekce jarního cyklu (téma VNITŘNÍ KLID)\, plná hluboké praxe. Praxe umožňuje napojit se hluboce na své tělo\, opravdu se uvolnit a obnovit rovnováhu. Lekce obsahuje praktické techniky a informace pro každodenní žití. \nKraniosakrální jóga propojuje moderní lékařské výzkumy\, zabývající se mozkem\, mozkomíšním mokem\, nervovou soustavou a fasciemi s učením tradiční jógy\, tradiční čínské medicíny a buddhismu. Probouzí přirozené ozdravné principy těla a do hloubky uvolňuje fyzické i emoční napětí. \nKaždá lekce je vhodná pro všechny věkové kategorie i pro začátečníky. Kombinuje prvky jógy a kraniosakrální terapie.  \nPřijít můžete i na jednotlivé lekce… \n  \n\n\n \n\n\n\nCENA: 810 Kč za cyklus nebo 330 Kč za lekci  \nREZERVACE na: sabina.rosecka@gmail.com  \n  \n\n\nLektorka jógy SABINA ROSECKÁ\, www.sabinarosecka.cz \, sabina.rosecka@gmail.com Učitelka jógy a kraniosakrální terapeutka se zaměřením na regulaci nervového systému a uvolňování napětí. Její skupinové i individuální lekce vycházejí z tradiční hatha jógy\, tibetské tantry a kraniosakrální osteopatie a biodynamiky. Součástí lekcí jsou techniky uvolnění těla a mysli a posilování funkční síly těla. Na společných setkáních vás vede k tomu\, abyste vnímali svůj vnitřní prostor\, pocity\, energii a intuici. Naučili se komunikovat s tělem a respektovali ho. \n “Mým cílem je učit jógu bezpečnou cestou tak\, aby pro vás nebyla jen gymnastikou na podložce\, ale prostředkem k plnějšímu\, spokojenějšímu žití v jeho přirozeném potenciálu a schopnosti si život tvořit.” Více se dočtete na jejím webu.
URL:https://centrum-setkavani.cz/akce/kraniosakralni-joga-jarni-cyklus-tema-vnitrni-klid/
CATEGORIES:Cvičení
ATTACH;FMTTYPE=image/jpeg:https://centrum-setkavani.cz/wp-content/uploads/2026/02/kraniosakralni-joga-1-724x1024-1.jpg
END:VEVENT
BEGIN:VEVENT
DTSTART;TZID=Europe/Paris:20260510T170000
DTEND;TZID=Europe/Paris:20260510T210000
DTSTAMP:20260422T060646
CREATED:19691231T220000Z
LAST-MODIFIED:20260331T222955Z
UID:42479-1778432400-1778446800@centrum-setkavani.cz
SUMMARY:SYSTEMICKÉ KONSTELACE s IVANOU
DESCRIPTION:Přijďte na poslední konstelační setkání před prázdninami (14.6. konstelace rušíme)… od 17:00 do 21:00 h. \nPomocí konstelací máme možnost nahlédnout do významných životních momentů\, které v sobě ukrývají skrytý potenciál. Vytváříme si tím možnost vystoupit z nevědomých omezujících vzorců a stát se tak tvůrci vlastních životů\, kteří vědomě následují řád lásky. \n \n  \n  \nVstupné 500Kč\, postavení vlastní konstelace + 500Kč (zamluvení konstelací dle pořadí přihlášení\, počet konstelací omezen) \nČASOVĚ: 17:00- 21:00 hod. \nREZERVACE nutná předem do 7.května na e-mail: ivana.kacerova@seznam.cz nebo tel.: 774 322 126 \n  \nProvází: IVANA KAČEROVÁ\, www.uvolneniteladuse.com \nUž bezmála 30 let se věnuji propojení těla\, mysli\, duše i ducha. Životní cesta mě zavedla k rozmanitým pohybovým technikám od jógy přes tai-ji\, chi-kung\, kum-nye\, intuitivní pohyb i metodu Feldenkrais. Postupně se přidružily různé druhy masáží\, kraniosakrální uvolnění\, metamorfní technika\, regrese i systemické konstelace. Všechny tyto techniky se zároveň propojují s duchovní filozofií i kultivací těla\, mysli i duše. Učí nás naslouchat svému „středu“ a nechat se jím vést. Zajímá mě propojení vnitřních světů s vnějšími a naopak.\nMým životním motem je nalézat své „IKIGAI“\n(Japonské slovíčko pro životní tvorbu\, jehož význam obsahuje čtyři části\, které existují spolu současně a jsou obsaženy v jednom.)\n– Věnuj se tomu\, co tě baví\n– Využívej při tom své talenty\n– Dělej co je prospěšné pro ostatní\n– To\, co děláš\, je zdrojem tvého živobytí
URL:https://centrum-setkavani.cz/akce/systemicke-konstelace-s-ivanou-3/
CATEGORIES:rodinné konstelace
ATTACH;FMTTYPE=image/png:https://centrum-setkavani.cz/wp-content/uploads/2026/02/8.3.-a-dale-Iva-RK-AKTUAL-724x1024-1.png
END:VEVENT
END:VCALENDAR